BEGIN:VCALENDAR
VERSION:2.0
PRODID:-//Pfadi Nussbaumen - ECPv6.2.0.1//NONSGML v1.0//EN
CALSCALE:GREGORIAN
METHOD:PUBLISH
X-WR-CALNAME:Pfadi Nussbaumen
X-ORIGINAL-URL:https://pfadinussbaumen.ch
X-WR-CALDESC:Veranstaltungen für Pfadi Nussbaumen
REFRESH-INTERVAL;VALUE=DURATION:PT1H
X-Robots-Tag:noindex
X-PUBLISHED-TTL:PT1H
BEGIN:VTIMEZONE
TZID:Europe/Paris
BEGIN:DAYLIGHT
TZOFFSETFROM:+0100
TZOFFSETTO:+0200
TZNAME:CEST
DTSTART:20260329T010000
END:DAYLIGHT
BEGIN:STANDARD
TZOFFSETFROM:+0200
TZOFFSETTO:+0100
TZNAME:CET
DTSTART:20261025T010000
END:STANDARD
END:VTIMEZONE
BEGIN:VEVENT
DTSTART;TZID=Europe/Paris:20260425T130000
DTEND;TZID=Europe/Paris:20260425T184500
DTSTAMP:20260424T122021
CREATED:20260131T094233Z
LAST-MODIFIED:20260414T195038Z
UID:2327-1777122000-1777142700@pfadinussbaumen.ch
SUMMARY:Ausflug Pfadistufe 25.04.
DESCRIPTION:Der Affe hat uns in seinen Dschungel eingeladen\, wo genau wir hingehen bliebt “geheim”.😉 \nTreffpunkt: 13:00 Uhr kath. Kirche\nEnde: 18:45 Uhr kath. Kirche \nKosten: 30 Fr.\nMitnehmen: Pfadikrawatte\, Zvieri\, Wasserflasche\, gute Laune;) \nDie Anmeldung ist bis am 20. April geöffnet.\nAnmeldelink: https://forms.office.com/e/34U733wPV6 \nMer freued eus! \n(Die Anmeldung wurde am 14.04.2026 per Mail versendet.)
URL:https://pfadinussbaumen.ch/veranstaltung/ausflug-pfadistufe-25-04/
LOCATION:kath. Kirche Nussbaumen\, Fliederstrasse 4\, Nussbaumen\, Aargau\, 5415\, Schweiz
CATEGORIES:keine automatisierte Anmeldung,Pfadistufe
ATTACH;FMTTYPE=image/jpeg:https://pfadinussbaumen.ch/wp-content/uploads/2026/01/Design-ohne-Titel.jpg
END:VEVENT
BEGIN:VEVENT
DTSTART;TZID=Europe/Paris:20260425T140000
DTEND;TZID=Europe/Paris:20260425T170000
DTSTAMP:20260424T122021
CREATED:20260318T171700Z
LAST-MODIFIED:20260422T081032Z
UID:2396-1777125600-1777136400@pfadinussbaumen.ch
SUMMARY:Aktivität Wolfsstufe 25.04.26
DESCRIPTION:Treffpunkt: Die Aktivität wird um 14:00 Uhr bei der kath. Kirche beginnen und wird 17:00 Uhr bei der kath. Kirche in Nussbaumen fertig sein.\nMitnehmen: Dem Wetter entsprechende Kleider\, Pfadikrawatte\, Pfadihemd\, gefüllte Trinkflasche. \nDie Aktivität findet gemeinsam mit der Bienlistufe von Baden Baregg statt\, sodass wir uns bereits vor dem PfiLa (Pfingstalger) kennenlernen können. \nDa wir gerade beim Thema PfiLa sind\, möchte ich darauf aufmerksam machen\, dass man sich immer noch für das PfiLa anmelden kann. Für unsere Pfadi haben wir vergleichsweise wenige Anmeldungen erhalten. Das PfiLa ist für alle Wölfle ein unvergessliches Erlebnis. Fragen dazu könnt ihr uns oder dem Elternrat jederzeit stellen. \nAusserdem findet während der Aktivität ein allgemeiner Elterninformationsanlass statt\, den ihr gerne besuchen dürft. Hier ist noch die Einladung. \nLiebe Eltern \nGerne laden wir euch herzlich zu unserem Eltern-Crashkurs zur Pfadi ein. Der Anlass richtet sich besonders an neue Eltern\, aber auch an alle\, die mehr über die Pfadi erfahren oder ihr Wissen auffrischen möchten. \nDatum: Samstag\, 25. April 2026 (während der Aktivität der Wolfsstufe)\nZeit: 14:15 Uhr\nOrt: Sitzungszimmer der kath. Kirche \nWorum geht es?\nWas ist eigentlich Pfadi?\nWas bedeuten all die Abkürzungen?\nWelche Qualifikationen haben die Leitpersonen? \nDiesen und vielen weiteren Fragen gehen wir gemeinsam nach\, praxisnah\, unkompliziert und im direkten Austausch. \nAblauf\nDer Anlass ist als Postenlauf organisiert:\nIhr könnt frei zwischen verschiedenen Themenposten zirkulieren. Diese werden von Mitgliedern des Elternrats sowie von Garfield (J&S Coach) betreut. \nPosten & Themen: \n– J&S und Betreuung: \nAusbildung der Leitpersonen (J&S)\nBetreuung durch Coach\nBeispiel eines Lagertages \n– Rucksack packen: \nWas gehört mit?\nTipps zum Packen\nHinweis auf Packlisten \n– Ausrüstung & Kleidung: \nWas anziehen für Aktivitäten und Lager?\nPraktische Tipps (z. B. Ersatz-Regenjacke)\nEinkaufsmöglichkeiten (auch günstig\, z. B. Trekking-Schuhe\, Shop von der Pfadi Nussbaumen) \n– Emotionaler Aspekt: \nUmgang mit Heimweh\nVertrauen in die Leitenden\n„Loslassen“ als Eltern\nWarum Kinder im Lager oft über sich hinauswachsen \n– Abkürzungen & Allgemeines: \nBegriffe wie Fami\, Bott\, J&S usw.\nAufbau der Pfadi Nussbaumen\nWo finde ich weitere Infos (Homepage etc.) \nDer Elternrat freut sich sehr\, euch an diesem Anlass begrüssen zu dürfen und gemeinsam in die Welt der Pfadi einzutauchen!
URL:https://pfadinussbaumen.ch/veranstaltung/aktivitaet-wolfsstufe-25-04-26/
LOCATION:kath. Kirche Nussbaumen\, Fliederstrasse 4\, Nussbaumen\, Aargau\, 5415\, Schweiz
CATEGORIES:Wolfsstufe
END:VEVENT
BEGIN:VEVENT
DTSTART;TZID=Europe/Paris:20260425T141500
DTEND;TZID=Europe/Paris:20260425T164500
DTSTAMP:20260424T122021
CREATED:20260215T111109Z
LAST-MODIFIED:20260215T111109Z
UID:2353-1777126500-1777135500@pfadinussbaumen.ch
SUMMARY:Biberstufe Aktivität
DESCRIPTION:Beginn: 14:15 Uhr\, Spielplatz Nüechtel \nMitnehmen: Zvieri\, Trinkflasche \nBekleidung: dem Wetter entsprechend \nSchluss: 16:45 Uhr\, Spielplatz Nüechtel
URL:https://pfadinussbaumen.ch/veranstaltung/biberstufe-aktivitaet-3/
LOCATION:Nuechtalspielplatz\, Nuechtalstrasse 28\, Nussbaumen\, Aargau\, 5415\, Schweiz
CATEGORIES:Biberstufe
END:VEVENT
END:VCALENDAR